BEGIN:VCALENDAR
VERSION:2.0
PRODID:-// - ECPv6.15.12.2//NONSGML v1.0//EN
CALSCALE:GREGORIAN
METHOD:PUBLISH
X-ORIGINAL-URL:https://galeriajuansisay.com
X-WR-CALDESC:Eventos para 
REFRESH-INTERVAL;VALUE=DURATION:PT1H
X-Robots-Tag:noindex
X-PUBLISHED-TTL:PT1H
BEGIN:VTIMEZONE
TZID:UTC
BEGIN:STANDARD
TZOFFSETFROM:+0000
TZOFFSETTO:+0000
TZNAME:UTC
DTSTART:20240101T000000
END:STANDARD
END:VTIMEZONE
BEGIN:VEVENT
DTSTART;VALUE=DATE:20251204
DTEND;VALUE=DATE:20251205
DTSTAMP:20260420T131856
CREATED:20251204T230056Z
LAST-MODIFIED:20251204T231249Z
UID:6915-1764806400-1764892799@galeriajuansisay.com
SUMMARY:Musa Iluminante colectiva
DESCRIPTION:A partir de las 6:30 PM\n15 Calle y 8 ave Edificio Optima Centro de Negocios Chas Bar \nAndrea de León Fagiani\, Alejandro Azurdia\, Carolina Saadeh\, Fabian Hernandez\, Geraldine Chemas\, Juan Manuel Sisay\, Lucia Rohrman\, Maria Olga de Suares\, Pamela Cerezo\, Pablo Hernandez\, Ricardo Chacón.
URL:https://galeriajuansisay.com/event/musa-iluminante-colectiva/
CATEGORIES:Exhibición
ATTACH;FMTTYPE=image/jpeg:https://galeriajuansisay.com/wp-content/uploads/2025/12/Musa.jpeg
ORGANIZER;CN="Juan Manuel Sisay":MAILTO:info@galeriajuansisay.com
END:VEVENT
BEGIN:VEVENT
DTSTART;VALUE=DATE:20250830
DTEND;VALUE=DATE:20250831
DTSTAMP:20260420T131856
CREATED:20251119T144645Z
LAST-MODIFIED:20251119T164912Z
UID:6699-1756512000-1756598399@galeriajuansisay.com
SUMMARY:Taller de Pintura en Santiago Atitlán
DESCRIPTION:Taller de pintura impartido el día de hoy sábado en las instalaciones de la Galería Juan Sisay.\n\nLa pasamos Super!!! \n\nPróximamente anunciaremos cursos regulares para principiantes e intermedios.\nEstén pendientes!\n\nInstalaciones: Galería Juan Sisay
URL:https://galeriajuansisay.com/event/taller-de-pintura-con-juan-manuel-sisay/
CATEGORIES:Talleres
ATTACH;FMTTYPE=image/jpeg:https://galeriajuansisay.com/wp-content/uploads/2025/11/Taller-de-pintura.jpeg
ORGANIZER;CN="Juan Manuel Sisay":MAILTO:info@galeriajuansisay.com
END:VEVENT
BEGIN:VEVENT
DTSTART;VALUE=DATE:20250810
DTEND;VALUE=DATE:20250811
DTSTAMP:20260420T131856
CREATED:20251119T153524Z
LAST-MODIFIED:20251119T164746Z
UID:6705-1754784000-1754870399@galeriajuansisay.com
SUMMARY:Taller de Pintura en Panajachel
DESCRIPTION:En nuestro Taller de Pintura con Juan Manuel Sisay\, aprenderás sobre teoría del color\, composición\, uso del acrílico y verás una demostración en vivo antes de crear tu propia obra en un lienzo de 11×14 pulgadas. \nIncluye tubos de acrílico de distintos colores\, pinceles de varios tamaños… ¡y un snack para recargar energías! \nInstalación: Hotel Jardines del Lago
URL:https://galeriajuansisay.com/event/taller-de-pintura-con-juan-manuel-sisay-2/
CATEGORIES:Talleres
ATTACH;FMTTYPE=image/png:https://galeriajuansisay.com/wp-content/uploads/2025/11/imagen_2025-11-19_104713066.png
ORGANIZER;CN="Juan Manuel Sisay":MAILTO:info@galeriajuansisay.com
END:VEVENT
BEGIN:VEVENT
DTSTART;VALUE=DATE:20250712
DTEND;VALUE=DATE:20250713
DTSTAMP:20260420T131856
CREATED:20190531T081026Z
LAST-MODIFIED:20251119T164110Z
UID:280-1752278400-1752364799@galeriajuansisay.com
SUMMARY:Taller de Pintura Antigua Guatemala
DESCRIPTION:Taller de pintura en acrílico con el maestro Juan Manuel SisayUna experiencia artística única en el corazón de La Antigua Guatemala Hotel Restaurante La Santa. \nBuy Ticket
URL:https://galeriajuansisay.com/event/unique-exhibition-johan-zoffany/
CATEGORIES:Talleres
ATTACH;FMTTYPE=image/jpeg:https://galeriajuansisay.com/wp-content/uploads/2025/11/Tallerjs.jpeg
ORGANIZER;CN="Juan Manuel Sisay":MAILTO:info@galeriajuansisay.com
END:VEVENT
END:VCALENDAR